Workbook

Sheet Disclaimers

Sheet Data Objects
A1: Please read the Disclaimer worksheet and make sure that you understand it.
A3: Name | B3: Class | C3: Property | D3: Type | E3: Association category | F3: Notes
B4: The class name of the property.
A5: Customer data | B5: PegaCDH-Data-FS-Customer | C5: N/A | D5: N/A | E5: Primary context
A6: Customer accounts | B6: PegaCDH-Data-FS-Accounts | C6: Accounts | D6: PageList | E6: Secondary context
A7: Interaction history | F7: See Pega Community article: https://docs.pega.com/bundle/platform/page/platform/decision-management/interaction-history-data-model.html

Sheet Data Model
A1: Please read the Disclaimer worksheet and make sure that you understand it.
I2: Usage | R2: Preparation
B3: Sort Order | C3: Property ID | D3: Field (Short Description) | E3: Property Type | F3: Description | G3: Example | H3: Sensitive PII | I3: Priority | J3: Eligibility | K3: Applicability | L3: Suitability | M3: Trigger | N3: Predictive | O3: Personalization | P3: Ethical Bias | Q3: Notes | R3: Batch | S3: Real-Time | T3: Calculated
A4: Divides properties into groups that are selectable in Next-Best-Action Designer. | C4: Pega property ID (logical data model). | D4: A property that populates into Next-Best-Action Designer, and is selectable from a drop-down list in the Engagement policy section or in Prediction Studio. | E4: The format in which the property values are presented. | F4: Short description of the field. | I4: Priority 1-3, 1 is mandatory, 2 is important for first release, 3 typically populated in later releases | J4: Data used to determine the set of criteria by which a customer is qualified to participate or be chosen for an action. For example, to qualify, you must be at least 18 years old or 19 years old if you live in Boston. | K4: Data used to determine if an action is appropriate at this point in time for this customer. For example, an action would fail to be applicable if the customer already owns a competing or more valuable offering. | L4: Data used to determine if an action is deemed appropriate and in the best interest of the customer. For example, although a customer may be eligible for a loan, it may be inappropriate to market it to them if they are likely to default on it. | M4: A change in this value determines if a customer has reached a spcific thershold to reasses a next best action. | N4: Data suitable to determine customer behavior in predictive analytics and machine learning. | O4: Used for personalizing correspondence or advertising | P4: Data that Pega recommends should be checked for human bias when used in predictive analytics and marchine learning. | Q4: General notes for this specific field. | R4: This field should be loaded from a System of Record into the Pega Customer Analytical data store. This is typically done as a Batch ETL or Batch file import. | S4: This field should be loaded in real-time from Systems of Record using APIs. The field may be available during ETL Load, but data should be as recent as possible. | T4: This value can be computed by Pega during ETL or in real-time. Customer does not need to have this available in Systems of Record.
A5: Customer Data | B5: 1 | C5: CustomerID | D5: Customer ID | E5: Text | F5: Primary key for the customer class and table. | G5: CUST-002 | H5: No | I5: 1 | J5: No | K5: No | L5: No | M5: No | N5: No | O5: No | P5: No | R5: Yes | S5: - | T5: No
B6: 2 | C6: Prefix | D6: Prefix | E6: Text | F6: Prefix of customer name | G6: Mr. | H6: No | I6: 2 | J6: No | K6: No | L6: No | M6: No | N6: No | O6: Yes | P6: No | R6: Yes | S6: - | T6: No
B7: 3 | C7: FirstName | D7: First name | E7: Text | F7: Customer first name | G7: John | H7: Yes | I7: 1 | J7: No | K7: No | L7: No | M7: No | N7: No | O7: Yes | P7: No | R7: Yes | S7: - | T7: No
B8: 4 | C8: LastName | D8: Last name | E8: Text | F8: Customer last name | G8: Doe | H8: Yes | I8: 1 | J8: No | K8: No | L8: No | M8: No | N8: No | O8: Yes | P8: No | R8: Yes | S8: - | T8: No
C9: FullName | D9: Full name | E9: Text | F9: Customer full name | G9: John Doe | H9: Yes | I9: 1 | J9: No | K9: No | L9: No | M9: No | N9: No | O9: Yes | P9: No | Q9: Populate full name through use of first name and last name | R9: Yes | T9: Yes
C10: Suffix | D10: Suffix | E10: Text | F10: Suffix of customer name | G10: Jr. | H10: No | I10: 2 | J10: No | K10: No | L10: No | M10: No | N10: No | O10: Yes | P10: No | R10: Yes | T10: No
B11: 5 | C11: BirthDate | D11: Date of birth | E11: Date | F11: Date of birth | G11: 32908 | H11: Yes | I11: 2 | J11: No | K11: No | L11: No | M11: Yes | N11: No | O11: No | P11: No | Q11: We advise to use relative date info such as Age instead for defining engagement policies | R11: Yes | S11: - | T11: No
B12: 6 | C12: Age | D12: Age | E12: Integer | F12: Customer age. This value is calculated based on customer date of birth. | G12: 30 | H12: No | I12: 2 | J12: Yes | K12: No | L12: Yes | M12: Yes | N12: Yes | O12: No | P12: Yes | Q12: Calculated from date of birth | R12: Yes | S12: - | T12: Yes
B13: 8 | C13: MKTCLVValue | D13: CLV value | E13: Decimal | F13: Numerical value that represents the customer lifetime value | G13: 750 | H13: No | I13: 2 | J13: No | K13: Yes | L13: No | M13: Yes | N13: Yes | O13: No | P13: No | R13: No | S13: Yes | T13: Yes
B14: 9 | C14: CLV | D14: CLV designation | E14: Text | F14: Text description of customer lifetime value | G14: High | H14: No | I14: 2 | J14: No | K14: Yes | L14: No | M14: No | N14: Yes | O14: No | P14: No | R14: No | S14: Yes | T14: Yes
B15: 11 | C15: Gender | D15: Gender | E15: Text | F15: Customer gender | G15: Male | H15: No | I15: 2 | J15: No | K15: Yes | L15: No | M15: No | N15: Yes | O15: No | P15: Yes | R15: Yes | S15: - | T15: No
B16: 12 | C16: MaritalStatus | D16: Marital status | E16: Text | F16: Customer marital status | G16: Single | H16: No | I16: 3 | J16: Yes | K16: No | L16: No | M16: Yes | N16: Yes | O16: No | P16: No | R16: Yes | S16: - | T16: No
C17: LanguagePreference | D17: Preferred language | E17: Text | F17: Customer language preference | G17: English | H17: No | I17: 3 | J17: No | K17: No | L17: No | M17: No | N17: No | O17: Yes | P17: Yes | R17: Yes | S17: - | T17: No
B18: 13 | C18: PrimaryAddressLine1 | D18: Primary address line 1 | E18: Text | F18: Customer primary address line 1 | G18: 10 Pleasant St. | H18: Yes | I18: 2 | J18: No | K18: No | L18: No | M18: No | N18: No | O18: No | P18: No | R18: Yes | S18: - | T18: No
B19: 14 | C19: PrimaryAddressLine2 | D19: Primary address line 2 | E19: Text | F19: Customer primary address line 2 | G19: Unit 2 | H19: Yes | I19: 2 | J19: No | K19: No | L19: No | M19: No | N19: No | O19: No | P19: No | R19: Yes | S19: - | T19: No
B20: 15 | C20: PrimaryCity | D20: Primary city | E20: Text | F20: Customer primary address city | G20: Pleasantville | H20: Yes | I20: 2 | J20: Yes | K20: No | L20: No | M20: Yes | N20: Yes* | O20: No | P20: No | Q20: Use only the first digits as predictors | R20: Yes | S20: - | T20: No
B21: 16 | C21: PrimaryState | D21: Primary state or territory | E21: Text | F21: Customer primary address state | G21: MA | H21: No | I21: 2 | J21: Yes | K21: No | L21: No | M21: Yes | N21: Yes | O21: No | P21: No | R21: Yes | S21: - | T21: No
B22: 17 | C22: PrimaryPostalCode | D22: Primary postal code | E22: Text | F22: Customer primary address postal code or zip code | G22: 61324 | H22: No | I22: 2 | J22: Yes | K22: No | L22: No | M22: Yes | N22: Yes | O22: No | P22: Yes | R22: Yes | S22: - | T22: No
B23: 18 | C23: PrimaryCountry | D23: Primary country | E23: Text | F23: Customer primary address country | G23: United States | H23: No | I23: 2 | J23: Yes | K23: No | L23: No | M23: Yes | N23: Yes | O23: No | P23: No | R23: Yes | S23: - | T23: Yes
C24: PrimaryCountryCode | D24: Primary country code | E24: Text | F24: Customer primary country code | G24: US | H24: No | I24: 2 | J24: Yes | K24: No | L24: No | M24: No | N24: Yes | O24: No | P24: No | Q24: Can be derived from country code | R24: Yes | T24: No
B25: 19 | C25: OwnershipStatus | D25: Primary residence ownership status | E25: Text | F25: Customer residential ownership status | G25: Rent | H25: No | I25: 3 | J25: Yes | K25: Yes | L25: Yes | M25: Yes | N25: Yes | O25: No | P25: No | R25: Yes | S25: - | T25: No
B26: 20 | C26: PrimaryEmail | D26: Email | E26: Text | F26: Customer email | G26: john.doe@example.com | H26: Yes | I26: 1 | J26: No | K26: No | L26: No | M26: No | N26: No | O26: No | P26: Yes | Q26: The email domain can be very predictive, but the total email address should not be used | R26: Yes | S26: - | T26: No
B27: 21 | C27: PrimaryMobilePhone | D27: Primary mobile phone | E27: Text | F27: Customer primary mobile phone | G27: 17815401232 | H27: Yes | I27: 1 | J27: No | K27: No | L27: No | M27: No | N27: No | O27: No | P27: No | Q27: Whether or not a phone number is known can be a predictor depending on the outcome. | R27: Yes | S27: - | T27: No
B28: 22 | C28: PrimaryHomePhone | D28: Primary home phone | E28: Text | F28: Customer home phone number | G28: 15332321452 | H28: Yes | I28: 2 | J28: No | K28: No | L28: No | M28: No | N28: No | O28: No | P28: No | Q28: Whether or not a phone number is known can be a predictor depending on the outcome. | R28: Yes | S28: - | T28: No
B29: 23 | C29: PrimaryWorkPhone | D29: Primary work phone | E29: Text | F29: Customer primary work phone | G29: 15352565634 | H29: Yes | I29: 2 | J29: No | K29: No | L29: No | M29: No | N29: No | O29: No | P29: No | Q29: Whether or not a phone number is known can be a predictor depending on the outcome. | R29: Yes | S29: - | T29: No
B30: 24 | C30: PrimaryFax | D30: Primary fax | E30: Text | F30: Customer fax number | G30: 11245225467 | H30: Yes | I30: 3 | J30: No | K30: No | L30: No | M30: No | N30: No | O30: No | P30: No | Q30: Whether or not a phone number is known can be a predictor depending on the outcome. | R30: Yes | S30: - | T30: No
C31: Facebook | D31: Facebook handle | E31: Text | F31: Customer Facebook handle | G31: John.Doe | H31: Yes | I31: 3 | J31: No | K31: Yes | L31: No | M31: No | N31: No | O31: No | P31: No | Q31: Whether or not a customer handle is known can be predictive but the handle itself is too fine grained to be used | R31: Yes | S31: - | T31: No
B32: 25 | C32: GooglePlus | D32: Google Plus handle | E32: Text | F32: Customer Google Plus handle | G32: John.Doe@gmail.com | H32: Yes | I32: 3 | J32: No | K32: Yes | L32: No | M32: No | N32: No | O32: No | P32: No | Q32: Whether or not a customer handle is known can be predictive but the handle itself is too fine grained to be used | R32: Yes | S32: - | T32: No
B33: 26 | C33: Instagram | D33: Instagram handle | E33: Text | F33: Customer Instagram handle | G33: Jdoe | H33: Yes | I33: 3 | J33: No | K33: Yes | L33: No | M33: No | N33: No | O33: No | P33: No | Q33: Whether or not a customer handle is known can be predictive but the handle itself is too fine grained to be used | R33: Yes | S33: - | T33: No
B34: 27 | C34: LinkedIn | D34: LinkedIn handle | E34: Text | F34: Customer LinkedIn handle | G34: JohnDoe | H34: Yes | I34: 3 | J34: No | K34: Yes | L34: No | M34: No | N34: No | O34: No | P34: No | Q34: Whether or not a customer handle is known can be predictive but the handle itself is too fine grained to be used | R34: Yes | S34: - | T34: No
B35: 28 | C35: Skype | D35: Skype handle | E35: Text | F35: Customer Skype handle | G35: John.Doe | H35: Yes | I35: 3 | J35: No | K35: Yes | L35: No | M35: No | N35: No | O35: No | P35: No | Q35: Whether or not a customer handle is known can be predictive but the handle itself is too fine grained to be used | R35: Yes | S35: - | T35: No
B36: 29 | C36: Twitter | D36: Twitter handle | E36: Text | F36: Customer Twitter handle | G36: @JohnDoe | H36: Yes | I36: 3 | J36: No | K36: Yes | L36: No | M36: No | N36: No | O36: No | P36: No | Q36: Whether or not a customer handle is known can be predictive but the handle itself is too fine grained to be used | R36: Yes | S36: - | T36: No
C37: HasOptInEmail | D37: Email opt-in | E37: Boolean | F37: Consent to receive promotional emails | G37: TRUE | H37: No | I37: 2 | J37: No | K37: No | L37: No | M37: No | N37: No | O37: No | P37: No | Q37: Should be used in OutboundPreferencesExtension strategy rather than on NBAD | R37: Yes | S37: Yes | T37: No
C38: HasOptInSMS | D38: SMS opt-in | E38: Boolean | F38: Consent to receive promotional texts | G38: TRUE | H38: No | I38: 2 | J38: No | K38: No | L38: No | M38: No | N38: No | O38: No | P38: No | Q38: Should be used in OutboundPreferencesExtension strategy rather than on NBAD | R38: Yes | S38: Yes | T38: No
C39: HasOptInCall | D39: Call opt-in | E39: Boolean | F39: Consent to receive promotional calls | G39: TRUE | H39: No | I39: 2 | J39: No | K39: No | L39: No | M39: No | N39: No | O39: No | P39: No | Q39: Should be used in OutboundPreferencesExtension strategy rather than on NBAD | R39: Yes | S39: Yes | T39: No
C40: HasOptInPushNotification | D40: Push notification opt-in | E40: Boolean | F40: Consent to receive promotional push notifications | G40: TRUE | H40: No | I40: 2 | J40: No | K40: No | L40: No | M40: No | N40: No | O40: No | P40: No | Q40: Should be used in OutboundPreferencesExtension strategy rather than on NBAD | R40: Yes | S40: Yes | T40: No
...

Sheet Notes
A1: Version # | B1: Description
A2: v0.9 | B2: Initial Version
A3: v1.0 | B3: Updated data model fields and aligned format
A4: v1.1 | B4: Added DB type column and personalization column
A5: v1.2 | B5: Added LanguagePreference and clickstream aggregation fields
A6: v1.3 | B6: Removed behavioral data to align with new customer profile designer feature
A7: v023 | B7: New table structure for 23 release
A8: v08.24 | B8: Updated tags and the way tags work. Indexed IsProspect.

Sheet Technical Details
A1: Please read the Disclaimer worksheet and make sure that you understand it.
A2: If the Frequency is blank, then the value should get populated based on your regular ETL/Batch import process for syncing your CDH data with your source data store/data lake
A3: Target System | F3: Source System | K3: Transformation Details
A4: Property ID | B4: Property Type | C4: Class | D4: Database Mapping | E4: Database Type | F4: Description | G4: System | H4: Entity | I4: Variable | J4: Transformation | K4: Batch Load | L4: Real-time Context | M4: Real-time Pull | N4: Real-time Push | O4: Frequency
A5: Pega property ID (logical data model). | B5: The format in which the property values are presented. | C5: The Pega class that this property applies to. | D5: Table name and column name that property is mapped to. In the format tablename.columnname (NOTE: for case sensitive DBs, all DB schemas, table names, and columns are lower case) | E5: Database column definition | F5: Short description of the field. | G5: The system in which the variable is located. | H5: The table in which the variable is located. | I5: The name of the variable/column that you want to ingest. | J5: The transformation required to convert the variable from its original form into that required by the Pega Customer Decision Hub™. | K5: Field is not frequently updated or not business critical to be real-time and therefore can be loaded on a fixed schedule | L5: The context or channel for with this data is used in real-time | M5: Business critical to be real-time but cannot be pushed to CDH from the system of record | N5: Business critical to be real-time and can be pushed to CDH as it changes in the system of record | O5: How often the field is refreshed from the source system.
A6: CustomerID | B6: Text | C6: PegaMKT-Data-Customer | D6: ="cdh_fs_customer."&A6 -> cdh_fs_customer.CustomerID | F6: ='Data Model'!F5 -> Primary key for the customer class and table. | K6: Yes | O6: Weekly
A7: Prefix | B7: Text | C7: PegaCDH-Data-FS-Customer | D7: ="cdh_fs_customer."&A7 -> cdh_fs_customer.Prefix | F7: ='Data Model'!F6 -> Prefix of customer name | K7: Yes | O7: Weekly
A8: FirstName | B8: Text | C8: PegaCDH-Data-FS-Customer | D8: ="cdh_fs_customer."&A8 -> cdh_fs_customer.FirstName | F8: ='Data Model'!F7 -> Customer first name | K8: Yes | O8: Weekly
A9: LastName | B9: Text | C9: PegaCDH-Data-FS-Customer | D9: ="cdh_fs_customer."&A9 -> cdh_fs_customer.LastName | F9: ='Data Model'!F8 -> Customer last name | K9: Yes | O9: Weekly
A10: FullName | B10: Text | C10: PegaCDH-Data-FS-Customer | D10: ="cdh_fs_customer."&A10 -> cdh_fs_customer.FullName | F10: ='Data Model'!F9 -> Customer full name | J10: Populate from FirstName + LastName | K10: Yes | O10: Weekly
A11: Suffix | B11: Text | C11: PegaCDH-Data-FS-Customer | D11: ="cdh_fs_customer."&A11 -> cdh_fs_customer.Suffix | F11: ='Data Model'!F10 -> Suffix of customer name | K11: Yes | O11: Weekly
A12: BirthDate | B12: Date | C12: PegaCDH-Data-FS-Customer | D12: ="cdh_fs_customer."&A12 -> cdh_fs_customer.BirthDate | F12: ='Data Model'!F11 -> Date of birth | K12: Yes | O12: Weekly
A13: Age | B13: Integer | C13: PegaMKT-Data-Customer | D13: ="cdh_fs_customer."&A13 -> cdh_fs_customer.Age | F13: ='Data Model'!F12 -> Customer age. This value is calculated based on customer date of birth. | J13: Calculate from Birthdate | K13: Yes | O13: Weekly
A14: MKTCLVValue | B14: Decimal | C14: PegaMKT-Data-Customer | D14: ="cdh_fs_customer."&A14 -> cdh_fs_customer.MKTCLVValue | F14: ='Data Model'!F13 -> Numerical value that represents the customer lifetime value | K14: Yes | O14: Weekly
A15: CLV | B15: Text | C15: PegaCDH-Data-FS-Customer | D15: ="cdh_fs_customer."&A15 -> cdh_fs_customer.CLV | F15: ='Data Model'!F14 -> Text description of customer lifetime value | J15: Set based on a designated range for MKTCLVVALUE | K15: Yes | O15: Weekly
A16: Gender | B16: Text | C16: PegaMKT-Data-Customer | D16: ="cdh_fs_customer."&A16 -> cdh_fs_customer.Gender | F16: ='Data Model'!F15 -> Customer gender | K16: Yes | O16: Weekly
A17: MaritalStatus | B17: Text | C17: PegaMKT-Data-Customer | D17: ="cdh_fs_customer."&A17 -> cdh_fs_customer.MaritalStatus | F17: ='Data Model'!F16 -> Customer marital status | K17: Yes | O17: Weekly
A18: LanguagePreference | B18: Text | C18: PegaMKT-Data-Customer | D18: ="cdh_fs_customer."&A18 -> cdh_fs_customer.LanguagePreference | F18: Customer language preference | K18: Yes | O18: Weekly
A19: PrimaryAddressLine1 | B19: Text | C19: PegaCDH-Data-FS-Customer | D19: ="cdh_fs_customer."&A19 -> cdh_fs_customer.PrimaryAddressLine1 | F19: ='Data Model'!F18 -> Customer primary address line 1 | K19: Yes | O19: Weekly
A20: PrimaryAddressLine2 | B20: Text | C20: PegaCDH-Data-FS-Customer | D20: ="cdh_fs_customer."&A20 -> cdh_fs_customer.PrimaryAddressLine2 | F20: ='Data Model'!F19 -> Customer primary address line 2 | K20: Yes | O20: Weekly
A21: PrimaryCity | B21: Text | C21: PegaCDH-Data-FS-Customer | D21: ="cdh_fs_customer."&A21 -> cdh_fs_customer.PrimaryCity | F21: ='Data Model'!F20 -> Customer primary address city | K21: Yes | O21: Weekly
A22: PrimaryState | B22: Text | C22: PegaCDH-Data-FS-Customer | D22: ="cdh_fs_customer."&A22 -> cdh_fs_customer.PrimaryState | F22: ='Data Model'!F21 -> Customer primary address state | K22: Yes | O22: Weekly
A23: PrimaryPostalCode | B23: Text | C23: PegaCDH-Data-FS-Customer | D23: ="cdh_fs_customer."&A23 -> cdh_fs_customer.PrimaryPostalCode | F23: ='Data Model'!F22 -> Customer primary address postal code or zip code | K23: Yes | O23: Weekly
A24: PrimaryCountry | B24: Text | C24: PegaCDH-Data-FS-Customer | D24: ="cdh_fs_customer."&A24 -> cdh_fs_customer.PrimaryCountry | F24: ='Data Model'!F23 -> Customer primary address country | K24: Yes | O24: Weekly
A25: PrimaryCountryCode | B25: Text | C25: PegaCDH-Data-FS-Customer | D25: ="cdh_fs_customer."&A25 -> cdh_fs_customer.PrimaryCountryCode | F25: ='Data Model'!F24 -> Customer primary country code | K25: Yes | O25: Weekly
A26: OwnershipStatus | B26: Text | C26: PegaCDH-Data-FS-Customer | D26: ="cdh_fs_customer."&A26 -> cdh_fs_customer.OwnershipStatus | F26: ='Data Model'!F25 -> Customer residential ownership status | K26: Yes | O26: Weekly
A27: PrimaryEmail | B27: Text | C27: PegaCDH-Data-FS-Customer | D27: ="cdh_fs_customer."&A27 -> cdh_fs_customer.PrimaryEmail | F27: ='Data Model'!F26 -> Customer email | K27: Yes | O27: Weekly
A28: PrimaryMobilePhone | B28: Text | C28: PegaCDH-Data-FS-Customer | D28: ="cdh_fs_customer."&A28 -> cdh_fs_customer.PrimaryMobilePhone | F28: ='Data Model'!F27 -> Customer primary mobile phone | K28: Yes | O28: Weekly
A29: PrimaryHomePhone | B29: Text | C29: PegaCDH-Data-FS-Customer | D29: ="cdh_fs_customer."&A29 -> cdh_fs_customer.PrimaryHomePhone | F29: ='Data Model'!F28 -> Customer home phone number | K29: Yes | O29: Weekly
A30: PrimaryWorkPhone | B30: Text | C30: PegaCDH-Data-FS-Customer | D30: ="cdh_fs_customer."&A30 -> cdh_fs_customer.PrimaryWorkPhone | F30: ='Data Model'!F29 -> Customer primary work phone | K30: Yes | O30: Weekly
... A37: Twitter | B37: Text | C37: PegaMKT-Data-Customer | D37: ="cdh_fs_customer."&A37 -> cdh_fs_customer.Twitter | F37: ='Data Model'!F36 -> Customer Twitter handle | K37: Yes | O37: Weekly
A38: HasOptInEmail | B38: Boolean | C38: PegaCDH-Data-FS-Customer | D38: ="cdh_fs_customer."&A38 -> cdh_fs_customer.HasOptInEmail | F38: ='Data Model'!F37 -> Consent to receive promotional emails | N38: Yes | O38: Real-time
A39: HasOptiInSMS | B39: Boolean | C39: PegaCDH-Data-FS-Customer | D39: ="cdh_fs_customer."&A39 -> cdh_fs_customer.HasOptiInSMS | F39: ='Data Model'!F38 -> Consent to receive promotional texts | N39: Yes | O39: Real-time
A40: HasOptInCall | B40: Boolean | C40: PegaCDH-Data-FS-Customer | D40: ="cdh_fs_customer."&A40 -> cdh_fs_customer.HasOptInCall | F40: ='Data Model'!F39 -> Consent to receive promotional calls | N40: Yes | O40: Real-time
A41: HasOptInPushNotification | B41: Boolean | C41: PegaCDH-Data-FS-Customer | D41: ="cdh_fs_customer."&A41 -> cdh_fs_customer.HasOptInPushNotification | F41: ='Data Model'!F40 -> Consent to receive promotional push notifications | N41: Yes | O41: Real-time
A42: RelationshipStartDate | B42: Date | C42: PegaMKT-Data-Customer | D42: ="cdh_fs_customer."&A42 -> cdh_fs_customer.RelationshipStartDate | F42: ='Data Model'!F41 -> Relationship start date | O42: Once
A43: RelationshipLengthDays | B43: Integer | C43: PegaCDH-Data-FS-Customer | D43: ="cdh_fs_customer."&A43 -> cdh_fs_customer.RelationshipLengthDays | F43: ='Data Model'!F42 -> Number of days since the relationship start date | J43: Calculated from RelationshipStartDate using a data flow | K43: Yes | O43: Daily
A44: SSN | B44: Text | C44: PegaCDH-Data-FS-Customer | D44: ="cdh_fs_customer."&A44 -> cdh_fs_customer.SSN | F44: ='Data Model'!F43 -> Customer social security number | K44: Yes | O44: Weekly
A45: TaxIDNumber | B45: Text | C45: PegaCDH-Data-FS-Customer | D45: ="cdh_fs_customer."&A45 -> cdh_fs_customer.TaxIDNumber | F45: ='Data Model'!F44 -> Customer tax identification number | K45: Yes | O45: Weekly
A46: IsCustomerActive | B46: Text | C46: PegaCDH-Data-FS-Customer | D46: ="cdh_fs_customer."&A46 -> cdh_fs_customer.IsCustomerActive | F46: ='Data Model'!F45 -> Is customer active flag | K46: Yes | O46: Daily
...
